BEGIN:VCALENDAR
VERSION:2.0
PRODID:-//Tukios.com/
BEGIN:VEVENT
UID:a332aa45-c1d5-4811-a012-2da59a278d26@obituaries.sunsetfuneralhome.com
DTSTAMP:20260422T223934Z
DTSTART:20260424T190000Z
DTEND:20260424T200000Z
SUMMARY:Funeral Service
DESCRIPTION:
URL:https://obituaries.sunsetfuneralhome.com/roger-bowling
LOCATION: 420 3rd St  Covington IN 47932
GEO:40.1382104;-87.3975416
END:VEVENT
END:VCALENDAR