BEGIN:VCALENDAR
VERSION:2.0
PRODID:-//Tukios.com/
BEGIN:VEVENT
UID:bef47c85-80a2-4dd9-92d2-e3ce676511c8@obituaries.sunsetfuneralhome.com
DTSTAMP:20260422T224331Z
DTSTART:20260424T170000Z
DTEND:20260424T190000Z
SUMMARY:Visitation
DESCRIPTION:
URL:https://obituaries.sunsetfuneralhome.com/roger-bowling
LOCATION: 420 3rd St  Covington IN 47932
GEO:40.1382104;-87.3975416
END:VEVENT
END:VCALENDAR