BEGIN:VCALENDAR
VERSION:2.0
PRODID:-//Tukios.com/
BEGIN:VEVENT
UID:ae4362e8-359a-4a5b-9458-508556adf1c4@obituaries.sunsetfuneralhome.com
DTSTAMP:20260426T004227Z
DTSTART:20260427T150000Z
DTEND:20260427T160000Z
SUMMARY:Celebration of Life
DESCRIPTION:
URL:https://obituaries.sunsetfuneralhome.com/richard-salrin
LOCATION:Sunset Funeral Home and Cremation Center 3940 N Vermilion St  
	Danville IL 61834
GEO:40.1994098;-87.6305459
END:VEVENT
END:VCALENDAR