BEGIN:VCALENDAR
VERSION:2.0
PRODID:-//Tukios.com/
BEGIN:VEVENT
UID:3aadff41-a5e3-4095-b133-b0c40129ebfc@obituaries.sunsetfuneralhome.com
DTSTAMP:20260426T004227Z
DTSTART:20260427T140000Z
DTEND:20260427T150000Z
SUMMARY:Visitation
DESCRIPTION:
URL:https://obituaries.sunsetfuneralhome.com/richard-salrin
LOCATION:Sunset Funeral Home and Cremation Center 3940 N Vermilion St  
	Danville IL 61834
GEO:40.1994098;-87.6305459
END:VEVENT
END:VCALENDAR