BEGIN:VCALENDAR
VERSION:2.0
PRODID:-//Tukios.com/
BEGIN:VEVENT
UID:fdf1f20d-e7ed-4b6b-a454-5a996c82fd96@obituaries.sunsetfuneralhome.com
DTSTAMP:20260421T083158Z
DTSTART:20260425T170000Z
DTEND:20260425T180000Z
SUMMARY:Visitation
DESCRIPTION:
URL:https://obituaries.sunsetfuneralhome.com/kay-shaner
LOCATION:Danville Country Club 2718 Denmark Road  Danville IL 61834
GEO:40.1739977;-87.6519473
END:VEVENT
END:VCALENDAR