BEGIN:VCALENDAR
VERSION:2.0
PRODID:-//Tukios.com/
BEGIN:VEVENT
UID:17c9acd9-72c6-48c6-a687-5b553920712a@obituaries.sunsetfuneralhome.com
DTSTAMP:20260421T211357Z
DTSTART:20260427T170000Z
DTEND:20260427T180000Z
SUMMARY:Funeral Service
DESCRIPTION:
URL:https://obituaries.sunsetfuneralhome.com/elmer-christians
LOCATION: 1551 E Grove Ave  Rantoul IL 61866
GEO:40.3125554;-88.1321061
END:VEVENT
END:VCALENDAR