BEGIN:VCALENDAR
VERSION:2.0
PRODID:-//Tukios.com/
BEGIN:VEVENT
UID:3917f198-142b-42f8-997b-54222a313d5e@obituaries.sunsetfuneralhome.com
DTSTAMP:20260421T211230Z
DTSTART:20260427T150000Z
DTEND:20260427T170000Z
SUMMARY:Visitation
DESCRIPTION:
URL:https://obituaries.sunsetfuneralhome.com/elmer-christians
LOCATION: 1551 E Grove Ave  Rantoul IL 61866
GEO:40.3125554;-88.1321061
END:VEVENT
END:VCALENDAR